BEGIN:VCALENDAR
VERSION:2.0
PRODID:-//Sac - ECPv6.15.14//NONSGML v1.0//EN
CALSCALE:GREGORIAN
METHOD:PUBLISH
X-WR-CALNAME:Sac
X-ORIGINAL-URL:https://sac.ca
X-WR-CALDESC:Events for Sac
REFRESH-INTERVAL;VALUE=DURATION:PT1H
X-Robots-Tag:noindex
X-PUBLISHED-TTL:PT1H
BEGIN:VTIMEZONE
TZID:UTC
BEGIN:STANDARD
TZOFFSETFROM:+0000
TZOFFSETTO:+0000
TZNAME:UTC
DTSTART:20240101T000000
END:STANDARD
END:VTIMEZONE
BEGIN:VEVENT
DTSTART;TZID=UTC:20250308T170000
DTEND;TZID=UTC:20250308T180000
DTSTAMP:20260416T061950
CREATED:20250213T002952Z
LAST-MODIFIED:20260114T191723Z
UID:1284-1741453200-1741456800@sac.ca
SUMMARY:SAC Annual General Meeting
DESCRIPTION:
URL:https://sac.ca/event/sac-annual-general-meeting/
CATEGORIES:SAC Meeting
END:VEVENT
END:VCALENDAR