BEGIN:VCALENDAR
VERSION:2.0
PRODID:-//Sac - ECPv6.15.14//NONSGML v1.0//EN
CALSCALE:GREGORIAN
METHOD:PUBLISH
X-ORIGINAL-URL:https://sac.ca
X-WR-CALDESC:Events for Sac
REFRESH-INTERVAL;VALUE=DURATION:PT1H
X-Robots-Tag:noindex
X-PUBLISHED-TTL:PT1H
BEGIN:VTIMEZONE
TZID:UTC
BEGIN:STANDARD
TZOFFSETFROM:+0000
TZOFFSETTO:+0000
TZNAME:UTC
DTSTART:20230101T000000
END:STANDARD
END:VTIMEZONE
BEGIN:VEVENT
DTSTART;TZID=UTC:20241012T080000
DTEND;TZID=UTC:20241027T170000
DTSTAMP:20260419T153541
CREATED:20241015T234511Z
LAST-MODIFIED:20241015T234511Z
UID:284-1728720000-1730048400@sac.ca
SUMMARY:SSA Racing Pilot Poll is open.
DESCRIPTION:US Racing Pilots. \nThe annual pilot poll is now available at the link below. If you have flown in a sanctioned contest in the past three years we strongly encourage you to provide your input. \nThis year Sarah Arnold is running unopposed for the seat on the rules committee where she currently serves. Therefore there is not an RC election this year. \nThe poll closes October 27th. \nFor the Rules Committee\, \nAndy Blackburn\, Chair \nhttp://bit.ly/ssarules
URL:https://sac.ca/event/ssa-racing-pilot-poll-is-open/
CATEGORIES:Racing
END:VEVENT
END:VCALENDAR